BEGIN:VCALENDAR
VERSION:2.0
PRODID:-//Stadtgeschichte München//DE
CALSCALE:GREGORIAN
BEGIN:VEVENT
UID:21497@stadtgeschichte-muenchen.de
SUMMARY:Rund um den Luise-Kiesselbach-Platz und Hans Grässels Altersheim St. Josef
DESCRIPTION:&lt;p&gt;Im Mittelpunkt unseres Rundganges steht der abgeschlossene Umbau des Luise-Kiesselbach-Platzes mit der großzügigen Untertunnelung. Beherrschendes Bauwerk dieses Platzes ist das Altersheim, das vom Stadtbaurat Hans Grässel ab 1925 als ein &quot;Gesamtkunstwerk&quot; errichtet worden ist. Die weitläufige Anlage dominiert die bemerkenswerte neubarocke Kirche mit ihren beiden Türmen. Vor wenigen Jahren war Grässels 70. Todestag Anlass, sich mit dessen modern-historisierender Formensprache und seinen richtungsweisenden Bauten und Friedhöfen zu beschäftigen. Zum &quot;Drumherum&quot; gehören auch die Grünanlage mit dem Maibaum, eine Kirche von Hans Döllgast und ein (fast) original erhaltenes Münchner Wirtshaus aus den zwanziger Jahren.&lt;/p&gt; 
DTSTART:20221021T140000
DTEND:20221021T160000
LOCATION:Haupteingang Altenheim, Luise-Kiesselbach-Platz (Bus 54 und 63)
ORGANIZER:DGB-Bildungswerk Bayern e.V. Region München
END:VEVENT
END:VCALENDAR