BEGIN:VCALENDAR
VERSION:2.0
PRODID:-//Stadtgeschichte München//DE
CALSCALE:GREGORIAN
BEGIN:VEVENT
UID:21511@stadtgeschichte-muenchen.de
SUMMARY:Sehenswerte Bahnhöfe der U 2 und U 1 im Münchner Untergrund
DESCRIPTION:&lt;p&gt;Nach der Eröffnung der beiden hochmodernen U-Bahnhöfe in Moosach 2010 tat sich lange nichts im Münchner Untergrund, aber inzwischen wird der Bau weiterer Stationen teilweise zumindest technisch vorbereitet - für die Verlängerung der U 5 vom Laimer Platz nach Pasing wie die Erweiterung der U 6 im Süden von Großhadern bis zum Technikcampus Martinsried. Es lohnt sich also, noch einmal einen Blick auf die ganze Geschichte der Münchner U-Bahn zu werfen, die 2021 auch ihr 50-jähriges Jubiläum feiern konnte. Dabei wollen wir uns diesmal der U 2 und der U 1 widmen, deren Stationen sich neben einigen Regelbahnhöfen teilweise durch intensive Farbkonzepte sowie innovatives Lichtdesign auszeichnen.&lt;br /&gt; Die Führungen können einzeln besucht werden.&lt;br /&gt; &amp;nbsp;&lt;/p&gt; 
DTSTART:20221214T140000
DTEND:20221214T160000
LOCATION:Bahnhof Mangfallplatz Gleisbereich, Ende gegen 16.00 Uhr am OEZ
ORGANIZER:DGB-Bildungswerk Bayern e.V. Region München
END:VEVENT
END:VCALENDAR