BEGIN:VCALENDAR
VERSION:2.0
PRODID:-//Stadtgeschichte München//DE
CALSCALE:GREGORIAN
BEGIN:VEVENT
UID:21515@stadtgeschichte-muenchen.de
SUMMARY:Der Isar-Auwald zwischen Unterföhring und Ismaning
DESCRIPTION:&lt;p&gt;Der ortsgeschichtliche Weg bietet Interessantes und Kurioses über Unterföhring, ein Naturlehrpfad Spannendes über Lebensräume von Tieren. Am Unterföhringer See vorbei geht es am Isarufer entlang - teils auf Trampelpfaden, teils auf dem Rad-Wanderweg daneben - nach Ismaning.&lt;br /&gt; Festes Schuhwerk, Wanderstöcke, wetterangepaßte Kleidung, Fernglas. 10,5 km, Gehzeit 3 Std. Fällt bei Sturm oder Starkregen aus.&lt;/p&gt; 
DTSTART:20221115T090000
DTEND:20221115T143000
LOCATION:München S-Bahnstation Unterföhring neben der Bushaltestelle
ORGANIZER:DGB-Bildungswerk Bayern e.V. Region München
END:VEVENT
END:VCALENDAR