BEGIN:VCALENDAR
VERSION:2.0
PRODID:-//Stadtgeschichte München//DE
CALSCALE:GREGORIAN
BEGIN:VEVENT
UID:21519@stadtgeschichte-muenchen.de
SUMMARY:Ein Blick in die &quot;Schatzkammer des Wissens&quot;
DESCRIPTION:&lt;p&gt;Friedrich von Gärtner hat den längsten Bau in der Ludwigstraße im Auftrag von König Ludwig I. erstellt. Eine Übersichtsführung durch die Bayerische Staatsbibliothek zeigt uns die heutigen Aufgaben und Nutzungsbedingungen der Bibliothek. Wir besuchen den Lesesaal und das Magazin. Ein Experte/eine Expertin des Instituts für Buchrestaurierung informiert uns über den technischen Stand und Aufwand, der für die Erhaltung der wertvollen Bücher notwendig ist.&lt;/p&gt; 
DTSTART:20221207T140000
DTEND:20221207T153000
LOCATION:	Bibliothekseingang, Ludwigstraße 16
ORGANIZER:DGB-Bildungswerk Bayern e.V. Region München
END:VEVENT
END:VCALENDAR