BEGIN:VCALENDAR
VERSION:2.0
PRODID:-//Stadtgeschichte München//DE
CALSCALE:GREGORIAN
BEGIN:VEVENT
UID:21527@stadtgeschichte-muenchen.de
SUMMARY:Irrwichtel im Isarwinkel
DESCRIPTION:&lt;p&gt;&lt;strong&gt;»Ein überaus gelungener Wanderführer, der zugleich so viel mehr ist, nämlich Sagen- und Heimatbuch sowie Gastroführer.«&amp;nbsp;&lt;/strong&gt;&lt;em&gt;&lt;strong&gt;Sabine Näher, Münchner Merkur&lt;/strong&gt;&lt;/em&gt;&lt;/p&gt; &lt;p&gt;&amp;nbsp;&lt;/p&gt; &lt;p&gt;Eltern wissen es: Das Stichwort »Wandern« allein ruft selten Begeisterungsstürme hervor. Wenn man die Natur allerdings belebt, sie mit Gestalten aus der reichen Fantasie unserer Vorfahren bevölkert, dann sieht die Sache schon ganz anders aus. Der Familien-Wanderführer »Irrwichtel im Isarwinkel« bietet Wissenswertes am Wegesrand, unterhaltsame Geschichte(n) zum Erwandern und eine kleine Portion Grusel. Denn im Isarwinkel gibt es neben versunkenen Dörfern und Dämonen, Irrlichtern und -wichteln auch Wetterhexen, Moosweiberl, Mord-Auen, romantische Ruinen, Goldquellen, wilde Bären, einen untoten Riesen und selbstverständlich die Isarnixe.&lt;br /&gt; Lena Havek und Andreas M. Bräu reichern die Touren mit einer gehörigen Portion Humor und sagenhaften Gestalten von den Arzfräulein bis zu einer echten Zombie-Armee an. Ein gewitzt geschriebener, liebevoll bebilderter Wanderführer für die ganze Familie!&lt;/p&gt; &lt;p&gt;&amp;nbsp;&lt;/p&gt; 
DTSTART:20220803T153000
DTEND:20220803T170000
LOCATION:Freilichtmuseum Glentleiten des Bezirks Oberbayern, An der Glentleiten 4, 82439 Großweil (Treffpunkt Vorplatz Ost)
ORGANIZER:Allitera Verlag
END:VEVENT
END:VCALENDAR