BEGIN:VCALENDAR
VERSION:2.0
PRODID:-//Stadtgeschichte München//DE
CALSCALE:GREGORIAN
BEGIN:VEVENT
UID:2153@stadtgeschichte-muenchen.de
SUMMARY:Ein „hortus conclusus&quot; wird geöffnet
DESCRIPTION:&lt;div&gt;Im sp&amp;auml;ten 19. Jahrhundert erlangte das ehemalige Jagdschloss F&amp;uuml;rstenried traurige Ber&amp;uuml;hmtheit, weil hier Bayerns kranker K&amp;ouml;nig Otto&amp;nbsp;verwahrt wurde. Anders als das Interieur des Schlosses blieb der dazugeh&amp;ouml;rige Barockgarten unver&amp;auml;ndert erhalten. Ab 1880 wurde er&amp;nbsp;durch Carl von Effner nach dem Geschmack der Gr&amp;uuml;nderzeit erweitert. Wir entdecken kostbare alte B&amp;auml;ume, Laubeng&amp;auml;nge,&amp;nbsp;Brunnenskulpturen und erklimmen den k&amp;uuml;nstlichen H&amp;uuml;gel zur ehemaligen Sicht auf die Alpenkette. Unsere Erkundung befasst sich auch&amp;nbsp;mit der urspr&amp;uuml;nglichen barocken Nutzung, den Festen und dem damaligen Musterbetrieb f&amp;uuml;r exklusiven Obst- und Gem&amp;uuml;seanbau zur&amp;nbsp;Belieferung der Hofk&amp;uuml;che. In Kooperation mit dem Historischen Verein Forstenried e.V.&lt;/div&gt;
DTSTART:20120810T160000
DTEND:20120810T173000
LOCATION:Schloss Fürstenried, Hoftor an der Forst-Kasten-Allee
ORGANIZER:MVHS München Mitte   
END:VEVENT
END:VCALENDAR