BEGIN:VCALENDAR
VERSION:2.0
PRODID:-//Stadtgeschichte München//DE
CALSCALE:GREGORIAN
BEGIN:VEVENT
UID:2155@stadtgeschichte-muenchen.de
SUMMARY:Die Villenkolonie Prinz-Ludwigs-Höhe und ihre Persönlichkeiten
DESCRIPTION:&lt;p&gt;Im Jahr 1896 errichtete die Baufirma Heilmann &amp;amp; Littmann die ersten Häuser in der „Wald-Villen-Colonie&quot; Prinz-Ludwigs-Höhe. Bei einem&amp;nbsp;Spaziergang wird das Entstehen der Kolonie anhand von Bildbeispielen aus der Jahrhundertwende dargestellt. Der Rundgang wird die&amp;nbsp;Entwicklung zu einem malerischen Gartenvorort sichtbar machen und bekannte Persönlichkeiten der Villenkolonie vorstellen. Dr. Dorle&amp;nbsp;GribI ist Autorin des Buches „ Solln und die Prinz-Ludwigs-Höhe-Villen und ihre Bewohner&quot; und weitere lokalgeschichtlicher Sachbücher.&amp;nbsp;&lt;/p&gt; 
DTSTART:20120728T140000
DTEND:20120728T170000
LOCATION:S-Bahnhof Solln, vor dem Restaurant â€žZum Hirschen
ORGANIZER:MVHS München Süd
END:VEVENT
END:VCALENDAR