BEGIN:VCALENDAR
VERSION:2.0
PRODID:-//Stadtgeschichte München//DE
CALSCALE:GREGORIAN
BEGIN:VEVENT
UID:21557@stadtgeschichte-muenchen.de
SUMMARY:Der Gedenkort auf dem Leitenberg
DESCRIPTION:&lt;p&gt;Auf dem Leitenberg befinden sich die Gräber von etwa 7.400 Toten des Konzentrationslagers Dachau, die dort in den letzten Kriegsmonaten und kurz nach der Befreiung angelegt wurden. Nach einem internationalen Skandal um die Vernachlässigung der Gräber entstand 1949 ein KZ-Ehrenfriedhof. Die Führung vor Ort geht auf die letzten Kriegsmonate im Lager und die Erinnerungsgeschichte des Ortes von 1945 bis heute ein.&lt;/p&gt; 
DTSTART:20220806T140000
DTEND:20220806T160000
LOCATION:Dachau, Parkplatz am Leitenberg, Leitenweg 9
ORGANIZER:MVHS
END:VEVENT
END:VCALENDAR