BEGIN:VCALENDAR
VERSION:2.0
PRODID:-//Stadtgeschichte München//DE
CALSCALE:GREGORIAN
BEGIN:VEVENT
UID:21561@stadtgeschichte-muenchen.de
SUMMARY:Ich darf hier Spielen
DESCRIPTION:&lt;p&gt;Sommerstraßen sind Spielstraßen oder verkehrsberuhigte Bereiche, die von der Stadt mit Sitzgelegenheiten möbliert werden. Sie wollen die Bürger*innen dazu anregen, den Straßenraum wieder als Treffpunkt zu entdecken, ihn zum Spielen und sich Bewegen zu nutzen.&lt;br /&gt; Bei diesem Stadtspaziergang erläutern die Aktiven der \'Spiellandschaft Stadt\' was es braucht, dass das Konzept Sommerstraße funktioniert und große und kleine Bürger*innen gut motiviert werden, sich diese Spiel- und Kommunikationsflächen anzueignen.&lt;/p&gt; 
DTSTART:20220922T153000
DTEND:20220922T180000
LOCATION:Hanebergstraße Nr. 14 vor dem Abenteuerspielplatz
ORGANIZER:Münchner Forum
END:VEVENT
END:VCALENDAR