BEGIN:VCALENDAR
VERSION:2.0
PRODID:-//Stadtgeschichte München//DE
CALSCALE:GREGORIAN
BEGIN:VEVENT
UID:21575@stadtgeschichte-muenchen.de
SUMMARY:Bunt sind alle meine Häuser
DESCRIPTION:&lt;p&gt;Tauchen Sie ein in die faszinierende Vielfalt Münchner Jugendstilfassaden!&lt;/p&gt; 
DTSTART:20220831T170000
DTEND:20220831T183000
LOCATION:Ecke Münchner Freiheit/Haimhauserstraße, 80802 München
ORGANIZER:Münchner Bildungswerk e.V.
END:VEVENT
END:VCALENDAR