BEGIN:VCALENDAR
VERSION:2.0
PRODID:-//Stadtgeschichte München//DE
CALSCALE:GREGORIAN
BEGIN:VEVENT
UID:21577@stadtgeschichte-muenchen.de
SUMMARY:Stadt der unsichtbaren Frauen: Eine Spurensuche
DESCRIPTION:&lt;p&gt;Denkmäler von Frauen sind selten in München, dennoch haben viele Stadtgeschichte mitgeschrieben!&lt;/p&gt; 
DTSTART:20220903T190000
DTEND:20220903T203000
LOCATION:Fischbrunnen, Marienplatz, 80331 München
ORGANIZER:Münchner Bildungswerk e.V.
END:VEVENT
END:VCALENDAR