BEGIN:VCALENDAR
VERSION:2.0
PRODID:-//Stadtgeschichte München//DE
CALSCALE:GREGORIAN
BEGIN:VEVENT
UID:21578@stadtgeschichte-muenchen.de
SUMMARY:Benno, Brauer, Bronzeguss: Rund um die St. Bennokirche
DESCRIPTION:&lt;p&gt;Die Geburtsstätten weltberühmter Biere und der kolossalen Bavaria finden sich in der Nachbar- schaft dieser beeindruckenden Kirche!&lt;/p&gt; 
DTSTART:20220907T150000
DTEND:20220907T163000
LOCATION:St. Benno, Eingangsbereich, Ferdinand-von-Miller-Platz 1, 80335 München
ORGANIZER:Münchner Bildungswerk e.V.
END:VEVENT
END:VCALENDAR