BEGIN:VCALENDAR
VERSION:2.0
PRODID:-//Stadtgeschichte München//DE
CALSCALE:GREGORIAN
BEGIN:VEVENT
UID:21579@stadtgeschichte-muenchen.de
SUMMARY:Münchner KulTourschmankerl – gegen den Strom
DESCRIPTION:&lt;p&gt;Bei einem Spaziergang von Stadtmauer zu Stadtmauer liegen Innenhöfe, Ruheoasen und kulturelle Besonderheiten am Weg !&lt;/p&gt; 
DTSTART:20220908T180000
DTEND:20220908T193000
LOCATION:Vor der Brasserie OskarMaria, Literaturhaus, Salvatorplatz 1, 80333 München
ORGANIZER:Münchner Bildungswerk e.V.
END:VEVENT
END:VCALENDAR