BEGIN:VCALENDAR
VERSION:2.0
PRODID:-//Stadtgeschichte München//DE
CALSCALE:GREGORIAN
BEGIN:VEVENT
UID:21586@stadtgeschichte-muenchen.de
SUMMARY:Maria Ramersdorf
DESCRIPTION:&lt;p&gt;Seit dem Mittelalter bis in die Gegenwart von großer Bedeutung erstrahlt die Wallfahrtskirche&amp;nbsp;in neuem Glanz!&lt;/p&gt; 
DTSTART:20220925T140000
DTEND:20220925T150000
LOCATION:Maria Ramersdorf, unter der Orgelempore, Ramersdorfer Straße 6, 81699 München
ORGANIZER:Münchner Bildungswerk e.V.
END:VEVENT
END:VCALENDAR