BEGIN:VCALENDAR
VERSION:2.0
PRODID:-//Stadtgeschichte München//DE
CALSCALE:GREGORIAN
BEGIN:VEVENT
UID:21597@stadtgeschichte-muenchen.de
SUMMARY:Sanierung jetzt!
DESCRIPTION:&lt;p&gt;Das Münchner Stadtmuseum zählt mit seiner umfangreichen Sammlung zu den größten kommunalen Museen Deutschlands. Baulich und konzeptionell ist das denkmalgeschützte Haus in bester Innenstadtlage stark in die Jahre gekommen. Jetzt soll es saniert, der Baubestand gesichert, der Museumsbetrieb neu aufgestellt und die Ausstellungen neu konzipiert werden. Dr. Frauke von der Haar, Direktorin des Münchner Stadtmuseums, erläutert wie es gelingen kann, das Museum neu in der Stadtlandschaft zu positionieren und den Bedarfen der Stadtgesellschaft anzupassen.&lt;/p&gt; 
DTSTART:20220124T190000
DTEND:20220124T203000
LOCATION:Einstein 28
ORGANIZER:MVHS
END:VEVENT
END:VCALENDAR