BEGIN:VCALENDAR
VERSION:2.0
PRODID:-//Stadtgeschichte München//DE
CALSCALE:GREGORIAN
BEGIN:VEVENT
UID:21627@stadtgeschichte-muenchen.de
SUMMARY:Polizeiinspektion 1, Stenz, Jack Nicholson u.v.m.
DESCRIPTION:&lt;p&gt;Schwabing wird &quot;die schönste Tochter Münchens&quot; genannt. Nicht umsonst war dieser Stadtteil unzählige Male Schauplatz vieler Serien, Filme und sogar Hollywood-Klassiker. Wo wohnte und flanierte Monaco Franze, ging die Polizeiinspektion 1 auf Verbrecherjagd und gönnte sich Jack Nicholson eine Limonade? Wo wurden jede Menge Filme produziert und wo traf Frankenstein auf die Spider Murphy Gang? Lassen Sie sich mitnehmen auf eine bunte Mischung: Drehorte, Plätze, Wohnhäuser und jede Menge Informationen und Anekdoten über Schauspieler*innen und Produktionen.&lt;/p&gt; &lt;p&gt;Die Führung endet in der Nähe des Bonner Platzes.&lt;/p&gt; 
DTSTART:20221113T130000
DTEND:20221113T150000
LOCATION: vor dem \"Café Münchner Freiheit\", Münchner Freiheit 20
ORGANIZER:MVHS
END:VEVENT
END:VCALENDAR