BEGIN:VCALENDAR
VERSION:2.0
PRODID:-//Stadtgeschichte München//DE
CALSCALE:GREGORIAN
BEGIN:VEVENT
UID:21631@stadtgeschichte-muenchen.de
SUMMARY:Zwischen Friedensengel und Maximilianeum
DESCRIPTION:&lt;p&gt;Nahe der Isar, zwischen Europaplatz und Maximiliansbrücke, befinden sich mit dem Friedensengel und dem Maximilianeum wichtige Wahrzeichen Münchens, die das Stadtbild und die Stadtsilhouette prägen. Ein Spaziergang durch die Maximiliansanlagen informiert über die historischen Hintergründe der Errichtung des Friedensengels sowie über die Geschichte der Parkanlage und des Maximilianeums. Auf dem Weg begegnen uns Denkmäler - wie etwa das für König Ludwig II. - die an bedeutende Geschichtskapitel Bayerns erinnern.&lt;/p&gt; 
DTSTART:20221021T160000
DTEND:20221021T180000
LOCATION:Friedensengel (am Monument)
ORGANIZER:MVHS
END:VEVENT
END:VCALENDAR