BEGIN:VCALENDAR
VERSION:2.0
PRODID:-//Stadtgeschichte München//DE
CALSCALE:GREGORIAN
BEGIN:VEVENT
UID:21652@stadtgeschichte-muenchen.de
SUMMARY:Freiraumentwicklung rund um den Olympiapark
DESCRIPTION:&lt;p&gt;Wie können wir in einer schnell wachsenden Stadt wie München bezahlbaren Wohnraum generieren? Welche Beispiele des alternativen Wohnens gibt es im Münchner Norden? Auf diesem Stadtspaziergang werden drei beispielhafte Projekte vorgestellt: das Dante II, die Studentenbungalows im Olympischen Dorf und das Stadtquartier am Ackermannbogen.&lt;/p&gt; 
DTSTART:20221121T170000
DTEND:20221121T181500
LOCATION:
ORGANIZER:MVHS
END:VEVENT
END:VCALENDAR