BEGIN:VCALENDAR
VERSION:2.0
PRODID:-//Stadtgeschichte München//DE
CALSCALE:GREGORIAN
BEGIN:VEVENT
UID:21661@stadtgeschichte-muenchen.de
SUMMARY:Themenführung: Fußball im KZ Dachau
DESCRIPTION:&lt;p&gt;Mit der Veröffentlichung von Bildern spielender Häftlinge im KZ Dachau wurde der Fußball schon 1933 als Propaganda missbraucht. Später beschreibt der Überlebende Ferdinand Hackl die Fußballspiele in einem Zeitzeugenbericht wie folgt: &quot;Auf dem Appellplatz, wo Häftlinge täglich schikaniert und sehr oft auch zu Tode gequält wurden (...), durfte jetzt an freien Sonntagen Fußball gespielt werden. Diese Spiele halfen den spielenden und auch den zuschauenden Häftlingen, ihr Leid und den Hunger (...) ein wenig zu vergessen.&quot;Neben Kurt Landauer, Präsident des FC Bayern, wurden 18 Vereinsmitglieder in das KZ Dachau verschleppt. Neben diesen Biografien wird im Rundgang auch nach dem Umgang von Vereinen mit diesem Teil ihrer Geschichte gefragt.&lt;/p&gt; &lt;p&gt;Die Themenführung findet in Kooperation mit der KZ-Gedenkstätte Dachau statt.&lt;/p&gt; 
DTSTART:20221119T140000
DTEND:20221119T160000
LOCATION:Besucherzentrum KZ-Gedenkstätte Dachau, Pater-Roth-Str. 2a
ORGANIZER:MVHS
END:VEVENT
END:VCALENDAR