BEGIN:VCALENDAR
VERSION:2.0
PRODID:-//Stadtgeschichte München//DE
CALSCALE:GREGORIAN
BEGIN:VEVENT
UID:21668@stadtgeschichte-muenchen.de
SUMMARY:Themenführung: Das KZ Dachau im Comic
DESCRIPTION:&lt;p&gt;Bereits während des Zweiten Weltkrieges erscheint in einem amerikanischen Comic-Heft die Bildgeschichte des Superhelden &quot;The Unknown&quot;, der das Konzentrationslager Dachau befreit. Bis heute wurden eine Vielzahl von Graphic Novels publiziert, die sich mit dem Holocaust auseinandersetzen. Die Lebensbedingungen im ehemaligen Konzentrationslager Dachau thematisiert u.a. Art Spiegelman auf einigen Seiten seines Werkes &quot;Maus - Die Geschichte eines Überlebenden&quot; oder Guy-Pierre Gautier und Tiburce Oger in &quot;Überleben in Dachau&quot;. Doch was können uns diese Graphic Novels über die damals dort herrschenden Lebensbedingungen erzählen? Wo liegen die Grenzen der Darstellbarkeit? Und kann das Medium Comic und Graphic Novel den Holocaust angemessen abbilden? Im Rahmen des Rundgangs werden nicht nur diese Fragen zur Diskussion gestellt, sondern auch die Geschichte des Konzentrationslagers Dachau thematisiert und ausgewählte Graphic Novels vorgestellt.&lt;/p&gt; &lt;p&gt;Die Themenführung findet in Kooperation mit der KZ-Gedenkstätte Dachau statt.&lt;/p&gt; 
DTSTART:20230218T140000
DTEND:20230218T160000
LOCATION:Besucherzentrum KZ-Gedenkstätte Dachau, Pater-Roth-Str. 2a
ORGANIZER:MVHS
END:VEVENT
END:VCALENDAR