BEGIN:VCALENDAR
VERSION:2.0
PRODID:-//Stadtgeschichte München//DE
CALSCALE:GREGORIAN
BEGIN:VEVENT
UID:2167@stadtgeschichte-muenchen.de
SUMMARY:Besuch im tibetisch-buddhistischen Püntsok-Rabten-Tempel
DESCRIPTION:&lt;p&gt;Nach der Besetzung Tibets durch China, den niedergeschlagenen Aufständen der Mönche und Kampas und der darauf folgenden&lt;br /&gt; Flucht des Dalai Lamas nach Nordindien bildeten sich in der westlichen Welt viele verschiedene private Hilfsgruppen zur Erhaltung&lt;br /&gt; tibetischer Kultur und Weisheit. Sie bauten auch neue Tempel und holten gelehrte tibetische Rinpoches und Lamas in ihre Länder, um&lt;br /&gt; den Untergang der sehr alten Religion des tibetischen Buddhismus zu verhindern. Einer dieser Tempel steht in Neuhausen. Er gibt&amp;nbsp;&amp;nbsp; iinen schönen Einblick in tibetische Kultgegenstände und buddhistische Religionsausübung. Blumen für den Altar sind herzlich willkommen.&lt;/p&gt; &lt;p&gt;&amp;nbsp;&lt;/p&gt; 
DTSTART:20120514T170000
DTEND:20120514T183000
LOCATION:Frundsbergstr. 31, Rgb
ORGANIZER:MVHS München West
END:VEVENT
END:VCALENDAR