BEGIN:VCALENDAR
VERSION:2.0
PRODID:-//Stadtgeschichte München//DE
CALSCALE:GREGORIAN
BEGIN:VEVENT
UID:217@stadtgeschichte-muenchen.de
SUMMARY:Stadtbäume im Stress:
DESCRIPTION:&lt;p&gt;Die f&amp;uuml;r den Englischen Garten zust&amp;auml;ndigen Gartenbauingenieure zeigen die typischen Schwierigkeiten dieser innerst&amp;auml;dtischen Gr&amp;uuml;nanlage auf: Wie ist der Spagat zwischen &amp;Ouml;kologie, Freizeitwert und Denkmalpflege zu meistern? Auch der Baumbestand leidet unter dem trockenen Stadtklima und der zunehmenden Freizeitnutzung. Doch f&amp;uuml;r die zum Beispiel an Buchen vermehrt auftretenden Sch&amp;auml;den scheint vorallem ein Pilz verantwortlich zu sein: Erkennen Sie die typischen Schadensbilder und erfahren Sie, mit welchen Ma&amp;szlig;nahmen die Baumgesundheit der Parkb&amp;auml;ume gef&amp;ouml;rdert wird. Die Veranstaltung findet bei jedem Wetter statt&lt;/p&gt;
DTSTART:20110720T180000
DTEND:20110720T200000
LOCATION:Englischer Garten, am Fuß des Chinesischen Turms (Treppenaufgang) 
ORGANIZER:MVHS München Mitte   
END:VEVENT
END:VCALENDAR