BEGIN:VCALENDAR
VERSION:2.0
PRODID:-//Stadtgeschichte München//DE
CALSCALE:GREGORIAN
BEGIN:VEVENT
UID:2170@stadtgeschichte-muenchen.de
SUMMARY:Führung durch die Ausstellung
DESCRIPTION:&lt;div&gt;Fotografien und Texte veranschaulichen in dieser Ausstellung Stadtteilgeschichte des 20. Jahrhunderts aus einer &amp;uuml;berraschenden&amp;nbsp;Perspektive. Sie erinnern an Schicksale und an den Geist- oder die &amp;bdquo;Geister&amp;quot; -von Orten und Schaupl&amp;auml;tzen an den R&amp;auml;ndern des&amp;nbsp;Stadtteils, in abgelegenen oder verborgenen Zonen: z. B. Relikte aus der Industriegeschichte - alte Industrieruinen. Sie zeigen auch&amp;nbsp;Orte, denen man nicht ansieht, dass sie Schauplatz bemerkenswerter oder tragischer Begebenheiten waren. Diese Ausstellung l&amp;auml;dt zum&amp;nbsp;Nachdenken ein, soll aber auch die Phantasie anregen, die hinter den Abbildern liegenden Geschichten zu erkunden. Die Autorin und&amp;nbsp;Fotografin Elvira Auer erforscht seit mehreren Jahren die Lokalgeschichte im M&amp;uuml;nchner Westen und geht dabei ungew&amp;ouml;hnliche Wege.&lt;/div&gt;
DTSTART:20120325T150000
DTEND:20120325T163000
LOCATION:Ehrenbürgstr. 9/Bau 6
ORGANIZER:MVHS München Mitte   
END:VEVENT
END:VCALENDAR