BEGIN:VCALENDAR
VERSION:2.0
PRODID:-//Stadtgeschichte München//DE
CALSCALE:GREGORIAN
BEGIN:VEVENT
UID:21703@stadtgeschichte-muenchen.de
SUMMARY:Shaere - Campus des Lebens
DESCRIPTION:&lt;p&gt;In Neuperlach entsteht der &quot;Campus des Lebens&quot; zum Mitmachen, Mitgestalten, Nachdenken und Neudenken. Auf über 40.000 qm versammeln sich Künstler*innen, Bildungsinteressierte, Schüler*innen, Lehrer*innen, Menschen jeden Alters, um diesen Ort zu &quot;bespielen&quot;. Das ehemalige Bürogebäude mit unterschiedlichen Räumen, Innenhöfen und Vorplätzen eröffnet großartige Möglichkeiten der Entfaltung für Themen aus Sozialem, Kunst und Kultur. Nachhaltigkeit und Klimaschutz stehen im Zentrum des Projekts.&lt;/p&gt; &lt;p&gt;Nach der Führung Podiumsdiskussion und gemeinsames Mittagessen aus &quot;geretteten&quot; Lebensmitteln des Projekts Community Kitchen.&lt;/p&gt; 
DTSTART:20221021T121500
DTEND:20221021T134500
LOCATION:Shaere, Fritz-Schäffer-Str. 9
ORGANIZER:MVHS
END:VEVENT
END:VCALENDAR