BEGIN:VCALENDAR
VERSION:2.0
PRODID:-//Stadtgeschichte München//DE
CALSCALE:GREGORIAN
BEGIN:VEVENT
UID:21710@stadtgeschichte-muenchen.de
SUMMARY:Nobles Bogenhausen
DESCRIPTION:&lt;p&gt;Im Jahr 1897 erwarb die Heilmann\'sche Immobiliengesellschaft das in Bogenhausen südlich der Sternwarte liegende Gebiet, um für die &quot;Upper Ten Thousand&quot; ein vornehmes Villenviertel zu errichten. Ein kunsthistorischer Rundgang widmet sich den Schwierigkeiten bei der Erschließung des Geländes und stellt einige typische Reihenhäuser und Villen sowie deren Architekten und Bewohnerschaft vor. Die Route: Galileiplatz, Possartstraße, Cuvilliésstraße, Friedrich-Herschel-Straße, Rauchstraße, Lamontstraße.&lt;/p&gt; 
DTSTART:20221023T140000
DTEND:20221023T160000
LOCATION:südlich der Universitäts-Sternwarte, Galileiplatz/Ecke Sternwartstr.
ORGANIZER:MVHS
END:VEVENT
END:VCALENDAR