BEGIN:VCALENDAR
VERSION:2.0
PRODID:-//Stadtgeschichte München//DE
CALSCALE:GREGORIAN
BEGIN:VEVENT
UID:21723@stadtgeschichte-muenchen.de
SUMMARY:Kunst, Kultur und Experimente in der Messestadt Riem
DESCRIPTION:&lt;p&gt;Die Führung beginnt im Stadtteilkulturzentrum Kultur-Etage beim &quot;Platz der Menschenrechte&quot;. Ein lohnender Abstecher führt zum unkonventionellen &quot;Wabenhaus&quot; des Architekten Peter Haimerl. Der zwischen 1937 und 1939 errichtete, nun denkmalgeschütze Kopfbau diente als Kassenhalle der Riemer Flughafentribüne, als &quot;BUGA Lounge&quot; und sporadisch für kulturelle Aktionen. Im Mai 2022 wurde das &quot;ExpeRIEMent Kopfbau&quot; feierlich gestartet. Professionelle und ehrenamtliche Akteur*innen und Lai*innen sind aufgerufen, den Ort (bis Ende 2024) jeweils in Zeiträumen bis zu acht Wochen zu bespielen.&lt;/p&gt; &lt;p&gt;&amp;nbsp;&lt;/p&gt; 
DTSTART:20221006T150000
DTEND:20221006T163000
LOCATION:Kultur-Etage Messestadt, Erika-Cremer-Str. 8
ORGANIZER:MVHS
END:VEVENT
END:VCALENDAR