BEGIN:VCALENDAR
VERSION:2.0
PRODID:-//Stadtgeschichte München//DE
CALSCALE:GREGORIAN
BEGIN:VEVENT
UID:21735@stadtgeschichte-muenchen.de
SUMMARY:Das Türkisch-Islamische Zentrum Sendling
DESCRIPTION:&lt;p&gt;In der Schanzenbachstraße in Sendling befindet sich seit 1989 ein türkisch-islamisches Zentrum, das täglich von Gläubigen zum Gebet aufgesucht wird. Neben einer Moschee beherbergt das Zentrum einen Konferenzraum für Versammlungen und den Besucher*innen stehen eine Teestube, Spielräume und eine Bibliothek zur Verfügung. Sie haben die Gelegenheit, mehr über die Arbeit des dortigen Moscheevereins und seine Angebote zu erfahren.&lt;/p&gt; 
DTSTART:20221201T160000
DTEND:20221201T173000
LOCATION:Türkisch-Islamisches Zentrum (U3 Brudermühlstr.), Schanzenbachstr. 1
ORGANIZER:MVHS
END:VEVENT
END:VCALENDAR