BEGIN:VCALENDAR
VERSION:2.0
PRODID:-//Stadtgeschichte München//DE
CALSCALE:GREGORIAN
BEGIN:VEVENT
UID:21737@stadtgeschichte-muenchen.de
SUMMARY:Passagen, Höfe und Gärten
DESCRIPTION:&lt;p&gt;Kreative Wege für Entdecker*innen führen Sie zu einigen besonders schönen Orten, die man nicht kennt. Wir besuchen historische und moderne Höfe, versteckte Gassen und Passagen in der Innenstadt. Neben bedeutenden Kunstwerken und außergewöhnlichen Architekturen finden wir grüne Oasen mitten in München. Uns begegnen Wirtshausgärten, Innenhöfe ehemaliger Adelspalais, innovative Passagen - mit verführerischen Geschäften - und vieles mehr.&lt;/p&gt; 
DTSTART:20221017T160000
DTEND:20221017T180000
LOCATION:Asamkirche, vor dem Eingang, Sendlinger Str. 32
ORGANIZER:MVHS
END:VEVENT
END:VCALENDAR