BEGIN:VCALENDAR
VERSION:2.0
PRODID:-//Stadtgeschichte München//DE
CALSCALE:GREGORIAN
BEGIN:VEVENT
UID:2174@stadtgeschichte-muenchen.de
SUMMARY:Pasing im Umbruch - ein Stadtteil verändert sich
DESCRIPTION:&lt;div&gt;Der Stadtteil Pasing wird sich in den kommenden Jahren massiv ver&amp;auml;ndern. Die Landsbergerstra&amp;szlig;e wird zum Teil zum verkehrsberuhigten&amp;nbsp;Boulevard, die Trambahn wird durch die B&amp;auml;cker- und Gleichmannstra&amp;szlig;e zum Bahnhof gef&amp;uuml;hrt, der Marienplatz wird umgestaltet, die&amp;nbsp;Umlenkung des Durchgangsverkehrs auf die Nordumgehung soll vielen Stra&amp;szlig;en und Pl&amp;auml;tzen ihre urbane Lebensqualit&amp;auml;t zur&amp;uuml;ckgeben.&amp;nbsp;Weitere neue Wohnungen, B&amp;uuml;ros und Gesch&amp;auml;fte werden gebaut, und der neue Busbahnhof ist bereits in Betrieb. Um die Bewohner und&amp;nbsp;die Gewerbetreibenden Pasings bei diesen Ver&amp;auml;nderungen zu begleiten und zu unterst&amp;uuml;tzen, haben die Stadt M&amp;uuml;nchen und die M&amp;uuml;nchner&amp;nbsp;Gesellschaft f&amp;uuml;r Stadterneuerung f&amp;uuml;r den Pasinger Kernbereich erstmals in M&amp;uuml;nchen das neue St&amp;auml;dtebauf&amp;ouml;rderungsprogramm &amp;bdquo;Aktive&amp;nbsp;Stadt- und Ortsteilzentren&amp;quot; eingerichtet. Derartige Ver&amp;auml;nderungen sorgen f&amp;uuml;r eine Menge Gespr&amp;auml;chsstoff und werfen noch mehr Fragen&amp;nbsp;auf.&lt;/div&gt; &lt;div&gt;&amp;nbsp;&lt;/div&gt; &lt;div&gt;&amp;Uuml;ber die Umw&amp;auml;lzungen im Stadtteil informiert Christian Bitter vom Stadtteilmanagement Pasing in einem Vortrag mit Pr&amp;auml;sentation. Im&amp;nbsp;Anschluss Gespr&amp;auml;ch und Diskussion.&lt;/div&gt;
DTSTART:20120423T190000
DTEND:20120423T203000
LOCATION:Volkshochschule â€¢ Bäckerstr. 14
ORGANIZER:MVHS München Mitte   
END:VEVENT
END:VCALENDAR