BEGIN:VCALENDAR
VERSION:2.0
PRODID:-//Stadtgeschichte München//DE
CALSCALE:GREGORIAN
BEGIN:VEVENT
UID:21741@stadtgeschichte-muenchen.de
SUMMARY:Die Tram Westtangente - Verbindung für fünf Stadtteile
DESCRIPTION:&lt;p&gt;Die Tram Westtangente verbindet als eines der wichtigsten Nahverkehrsprojekte Münchens fünf Stadtviertel direkt miteinander. Sie beginnt dabei am Romanplatz in Neuhausen und endet an der Aidenbachstraße in Obersendling. Diskutiert wird dieses Projekt seit den 90er Jahren, im Jahr 2023 soll der Bau nun beginnen. Die Veranstaltung informiert über den aktuellen Planungsstand und gibt einen Überblick über den Bauablauf.&lt;/p&gt; &lt;p&gt;In Kooperation mit den SWM, Ressort Mobilität.&lt;/p&gt; 
DTSTART:20230214T183000
DTEND:20230214T200000
LOCATION:Volkshochschule, Guardinistr. 90
ORGANIZER:MVHS
END:VEVENT
END:VCALENDAR