BEGIN:VCALENDAR
VERSION:2.0
PRODID:-//Stadtgeschichte München//DE
CALSCALE:GREGORIAN
BEGIN:VEVENT
UID:21742@stadtgeschichte-muenchen.de
SUMMARY:Engagement in einer Tour
DESCRIPTION:&lt;p&gt;Lernen Sie München von einer ganz anderen Seite kennen: Eine Tour zu unterschiedlichen Einrichtungen und Projekten im Münchner Süden soll Lust auf Ehrenamt machen. Wir zeigen, was an ehrenamtlicher Arbeit geleistet wird und wo Sie aktiv werden können. Wir sind zu Fuß und z.T. mit öffentlichen Verkehrsmitteln unterwegs, voraussichtlich in Sendling. Den Treffpunkt sowie den Ablauf der Tour erfahren Sie vor der Veranstaltung.&lt;/p&gt; &lt;p&gt;In Kooperation mit dem Freiwilligen-Zentrum München Süd der Caritas.&lt;/p&gt; 
DTSTART:20230209T163000
DTEND:20230209T183000
LOCATION:wird mitgeteilt
ORGANIZER:MVHS
END:VEVENT
END:VCALENDAR