BEGIN:VCALENDAR
VERSION:2.0
PRODID:-//Stadtgeschichte München//DE
CALSCALE:GREGORIAN
BEGIN:VEVENT
UID:21756@stadtgeschichte-muenchen.de
SUMMARY:Führung durch das Schloss Fürstenried
DESCRIPTION:&lt;p&gt;Schloss Fürstenried entstand zeitgleich mit den Schlössern Schleißheim und Nymphenburg. In drei Jahrhunderten erfuhr es deutliche Umwidmungen: Jagdschloss, Witwensitz, Unterbringung des kranken Königs Otto, Exerzitienhaus der katholischen Kirche. Alle Aspekte verdeutlicht diese Führung durch das stark modernisierte und der Öffentlichkeit üblicherweise nicht zugängliche Innere des Schlosses sowie das gärtnerische Ambiente des Schlossgartens.&lt;/p&gt; 
DTSTART:20221024T150000
DTEND:20221024T163000
LOCATION:Hoftor, Forst-Kasten-Allee
ORGANIZER:MVHS
END:VEVENT
END:VCALENDAR