BEGIN:VCALENDAR
VERSION:2.0
PRODID:-//Stadtgeschichte München//DE
CALSCALE:GREGORIAN
BEGIN:VEVENT
UID:21757@stadtgeschichte-muenchen.de
SUMMARY:Fürstenried - ein Münchner Stadtteil feiert seinen 60. Geburtstag
DESCRIPTION:&lt;p&gt;Die Geschichte Fürstenrieds beginnt mit dem Bau eines Schlosses: Kurfürst Max Emanuel beauftragte Hofbaumeister Josef Effner mit dem Bau von Schloss Fürstenried (1715-1717). Ab 1962 wurde die Ansiedlung zur Trabantenstadt: es entstand eine Mischbebauung aus Reihen- und Atriumhäusern, Mehrfamilienhäusern bis zum Hochhaus für rund 4000 Menschen, dazu großzügige Anlagen für Erholung und Freizeit. Zwei herausragende Beispiele für den modernen Kirchenbau des 20. Jahrhunderts finden sich in der katholischen Kirche St. Matthias von Alexander von Branca und der evangelischen Andreaskirche von Gustav Gsaenger.&lt;/p&gt; &lt;p&gt;Der Vortrag findet online per Zoom-Videokonferenz statt.&lt;/p&gt; 
DTSTART:20230131T180000
DTEND:20230131T193000
LOCATION:
ORGANIZER:MVHS
END:VEVENT
END:VCALENDAR