BEGIN:VCALENDAR
VERSION:2.0
PRODID:-//Stadtgeschichte München//DE
CALSCALE:GREGORIAN
BEGIN:VEVENT
UID:21784@stadtgeschichte-muenchen.de
SUMMARY:Ausgewählte Allacher und Untermenzinger Geschichten - Teil 4
DESCRIPTION:&lt;p&gt;Der Vortrag unseres Stadtteilhistorikers Dr. Walter G. Demmel behandelt in Teil 4 seiner Allacher und Untermenzinger Geschichten bekannte und unbekannte Personen unseres Stadtteils, die er in seinem Buch &quot;Münchener Vorstadtgeschichten&quot; und in der Jubiläumsschrift &quot;1200 Jahre Menzing&quot; vorgestellt hatte.&lt;/p&gt; 
DTSTART:20221117T180000
DTEND:20221117T193000
LOCATION:Volkshochschule, Oertelplatz 11
ORGANIZER:MVHS
END:VEVENT
END:VCALENDAR