BEGIN:VCALENDAR
VERSION:2.0
PRODID:-//Stadtgeschichte München//DE
CALSCALE:GREGORIAN
BEGIN:VEVENT
UID:21792@stadtgeschichte-muenchen.de
SUMMARY:Offene Werkstätten am Beispiel des Munich Maker Lab e.V.
DESCRIPTION:&lt;p&gt;In offenen Werkstätten werden Wissen und Werkzeuge geteilt, um Mitgliedern und der Allgemeinheit einen Ort zur Eigenarbeit und zum gemeinschaftlichen Austausch zu bieten. Seit 2017 betreibt der Munich Maker Lab e.V. eine solche Werkstatt auf dem Kreativquartier. Hier kann jede*r Ideen und Projekte mithilfe diverser Maschinen (Holz-/Metallwerkstatt, 3D-Drucker, Lasercutter, Elektronikwerkstatt) verwirklichen. Im Rahmen einer Führung durch die offene Werkstatt, bringen David Ederle und Severin Schols das Konzept im Allgemeinen, und am Beispiel anderer Angebote in München den Interessierten näher.&lt;/p&gt; 
DTSTART:20221025T180000
DTEND:20221025T190000
LOCATION:Neubau Schwere Reiter, Dachauer Str. 114a
ORGANIZER:MVHS
END:VEVENT
END:VCALENDAR