BEGIN:VCALENDAR
VERSION:2.0
PRODID:-//Stadtgeschichte München//DE
CALSCALE:GREGORIAN
BEGIN:VEVENT
UID:21795@stadtgeschichte-muenchen.de
SUMMARY:Der Richelbräu
DESCRIPTION:&lt;p&gt;Vorgestellt wird eine ganz besondere Hausgemeinschaft - das Projekt &quot;CasaNova&quot; im Stadtteil Neuhausen. Eine kleine Hausbrauerei, der Richelbräu mit seinem CasaNova-Bier, ist im Keller eines denkmalgeschützten Anwesens Begegnungsstätte für Braukunst und Bierkultur. Bei kleiner Brotzeit und Verkostung von selbst gebrauten Biersorten bekommen Sie Einblick in das Innenleben einer außergewöhnlichen Lebens- und Wohngemeinschaft in einem alten Neuhauser Arbeiterviertel.&lt;/p&gt; 
DTSTART:20230217T180000
DTEND:20230217T193000
LOCATION:Volkshochschule, Nymphenburger Str. 171b
ORGANIZER:MVHS
END:VEVENT
END:VCALENDAR