BEGIN:VCALENDAR
VERSION:2.0
PRODID:-//Stadtgeschichte München//DE
CALSCALE:GREGORIAN
BEGIN:VEVENT
UID:21822@stadtgeschichte-muenchen.de
SUMMARY:Let\'s bird: Vogelexkursion in Moosach
DESCRIPTION:&lt;p&gt;Schon Anfang des Jahres legen viele Vogelarten los mit ihren Balzgesängen. Die Bäume tragen noch kein Laub, sodass wir die meisten Sänger gut beobachten können. Die in Moosach lebende Biologin und Vogelkundlerin Gabriele Glück führt durch ihren Stadtteil, in dem ländliches Idyll und städtische Elemente zusammentreffen. So bietet Moosach direkt vor der eigenen Haustür attraktive Lebensräume für zahlreiche Vogelarten. Die Veranstaltung findet bei jedem Wetter statt.&lt;/p&gt; &lt;p&gt;&amp;nbsp;&lt;/p&gt; 
DTSTART:20230224T160000
DTEND:20230224T180000
LOCATION:Alter Wirt, Moosach, Dachauer Str. 274
ORGANIZER:MVHS
END:VEVENT
END:VCALENDAR