BEGIN:VCALENDAR
VERSION:2.0
PRODID:-//Stadtgeschichte München//DE
CALSCALE:GREGORIAN
BEGIN:VEVENT
UID:21832@stadtgeschichte-muenchen.de
SUMMARY:Berühmte Kulturschaffende und ihre Werke
DESCRIPTION:&lt;p&gt;Wie haben großartige Künstler*innen und Erfinder mit ihren Werken die Münchner Altstadt geprägt? Auf unserem Spaziergang durch die Altstadt begeben wir uns auf die Spuren von Traditionellem und Kuriosem aus der Münchner Kunst- und bayerischen Kulturgeschichte. Berühmte Persönlichkeiten, markante Bauten und unterhaltsame Anekdoten machen Stadtgeschichte lebendig, vom Mittelalter über den Barock bis zum Ende der Frühen Neuzeit und zum Zeitalter der Industrialisierung. Die Tour endet am Odeonsplatz.&lt;/p&gt; 
DTSTART:20230210T160000
DTEND:20230210T000017
LOCATION:https://www.mvhs.de/programm/muenchen-entdecken.19524/P182095?tx_vhsconnect_search%5Bcontroller%5D=Event&cHash=add56b7886803400ee4717d3061c6fab
ORGANIZER:MVHS
END:VEVENT
END:VCALENDAR