BEGIN:VCALENDAR
VERSION:2.0
PRODID:-//Stadtgeschichte München//DE
CALSCALE:GREGORIAN
BEGIN:VEVENT
UID:21833@stadtgeschichte-muenchen.de
SUMMARY:Barocke Adelspalais in der Münchner Altstadt
DESCRIPTION:&lt;p&gt;Prächtige Namen schmücken prächtige Häuser. Ob Preysing, Fugger, Holnstein, Seinsheim oder Toerring - diese Adelsgeschlechter haben bis heute in Münchens Altstadt stehende Palais besessen und errichtet, um nahe am Hofe ihres Kurfürsten residieren zu können. In einem gemeinsamen Rundgang beleuchten wir die Geschichte hinter diesen Gebäuden und analysieren ihre außerordentlich feine Architektur aus dem 18. Jahrhundert, die bis heute die Fassaden der Palais schmückt.&lt;/p&gt; 
DTSTART:20221203T140000
DTEND:20221203T160000
LOCATION:Feldherrnhalle, Odeonsplatz
ORGANIZER:MVHS
END:VEVENT
END:VCALENDAR