BEGIN:VCALENDAR
VERSION:2.0
PRODID:-//Stadtgeschichte München//DE
CALSCALE:GREGORIAN
BEGIN:VEVENT
UID:2184@stadtgeschichte-muenchen.de
SUMMARY:Kulturgeschichtspfad Laim
DESCRIPTION:&lt;div&gt;Die Kulturgeschichtspfade in M&amp;uuml;nchen zeigen historisch bedeutsame Orte, H&amp;auml;user, Personen und Geschehnisse der einzelnen Stadtteile -auch die weniger bekannten. Auch in Laim lassen sich viele der historisch gewachsenen Strukturen und die Entwicklung vom Bauerndorf (das &amp;auml;lter als M&amp;uuml;nchen ist) zum Gro&amp;szlig;stadtviertel erkennen. Dabei hat die Anbindung an die Eisenbahn sein Gesicht entscheidend gepr&amp;auml;gt. Stationen des Rundgangs sind: das Gesch&amp;auml;ftszentrum an der F&amp;uuml;rsten-rieder Stra&amp;szlig;e, die F&amp;uuml;rstenrieder Schule (das Wahrzeichen Laims), der alte Ortskern mit der St. Ulrich-Kirche (1315 erstmals erw&amp;auml;hnt), das Laimer Schl&amp;ouml;ssl, das Interim (ehemaliger Stall und heute ein Kulturzentrum), die Eisenbahnerkolonie und die Theodor-Fischer-Siedlung. W&amp;auml;hrend des Spaziergangs werden Sie auch &amp;uuml;ber die st&amp;auml;dtebaulichen Entwicklungen jenseits der Bahnstrecke informiert. In Zusammenarbeit mit dem &amp;bdquo;Historischen Verein Laim e.V.&amp;quot;&lt;/div&gt;
DTSTART:20120819T110000
DTEND:20120819T130000
LOCATION:Volkshochschule, Fürstenrieder Str. 53
ORGANIZER:MVHS München West
END:VEVENT
END:VCALENDAR