BEGIN:VCALENDAR
VERSION:2.0
PRODID:-//Stadtgeschichte München//DE
CALSCALE:GREGORIAN
BEGIN:VEVENT
UID:21842@stadtgeschichte-muenchen.de
SUMMARY:Die Wittelsbacher im Rampenlicht
DESCRIPTION:&lt;p&gt;Wer kennt sie nicht, die Multimedienstars Ludwig II. König von Bayern und Elisabeth Kaiserin von Österreich? Ihren Weltruhm verdanken die beiden vor allem der Foto- und Filmbranche. Doch wie sah abseits des modernen Blitzlichtgewitters, der Argusaugen übergriffiger Paparazzi und der Vermarktung durch die Regenbogenpresse die Welt der Fotografie und des Films für die Wittelsbacher aus? Ausgehend von der höfischen Porträtmalerei und der Lithografie präsentiert der Historiker, Kunstwissenschaftler und BR-Filmemacher den Beginn der Fotokunst am Hof der Wittelsbacher.&lt;/p&gt; 
DTSTART:20230210T180000
DTEND:20230210T193000
LOCATION:Bildungszentrum, Einsteinstr. 28
ORGANIZER:MVHS
END:VEVENT
END:VCALENDAR