BEGIN:VCALENDAR
VERSION:2.0
PRODID:-//Stadtgeschichte München//DE
CALSCALE:GREGORIAN
BEGIN:VEVENT
UID:21844@stadtgeschichte-muenchen.de
SUMMARY:Majestätisch kuren - Bayerns Hofbäder
DESCRIPTION:&lt;p&gt;Anhand emotionaler Hofgeschichten beschreibt der Historiker, Kunstwissenschaftler und BR-Filmemacher Dr. Bernhard Graf die Entwicklungsgeschichte der bayerischen Hofbäder. Darunter fallen Schicksale, wie die Gichtkrankheit Herzog Ludwigs des Reichen, Adelheid von Roths dramatischer Feuertod, die Kinderlosigkeit der bayerischen Kurfürstin Henriette Adelaide, die Eheanbahnung von Maximilian Herzog von Leuchtenberg wie auch die zahlreichen Kurschatten und skandalösen Mesalliancen. Dabei bleibt die repräsentative Architektur der Hofbäder keinesfalls auf der Strecke.&lt;/p&gt; 
DTSTART:20230224T180000
DTEND:20230224T000019
LOCATION:Bildungszentrum, Einsteinstr. 28
ORGANIZER:MVHS
END:VEVENT
END:VCALENDAR