BEGIN:VCALENDAR
VERSION:2.0
PRODID:-//Stadtgeschichte München//DE
CALSCALE:GREGORIAN
BEGIN:VEVENT
UID:21847@stadtgeschichte-muenchen.de
SUMMARY:Bayerische Literaturgeschichte
DESCRIPTION:&lt;p&gt;Die neue &quot;Bayerische Literaturgeschichte&quot; von Klaus Wolf widmet sich allen 13 Jahrhunderten von den Zeiten der Agilolfinger bis zum Jahr 2000. Er befasst sich mit einer Vielzahl literarischer Strömungen und den historischen Einflüssen, die auf Bayerns Entwicklung einwirkten. Besonderes Augenmerk richtet der Autor auf die Schriftstellerinnen, lässt aber auch die Mundartdichtung nicht zu kurz kommen.&lt;/p&gt; &lt;p&gt;An diesem Abend bietet Klaus Wolf in seiner humorvollen Lesung etliche vergnügliche Schmankerl aus seinem fulminanten Werk.&lt;/p&gt; 
DTSTART:20230120T181500
DTEND:20230120T194500
LOCATION:Gasteig HP8, Hans-Preißinger-Str. 8
ORGANIZER:MVHS
END:VEVENT
END:VCALENDAR