BEGIN:VCALENDAR
VERSION:2.0
PRODID:-//Stadtgeschichte München//DE
CALSCALE:GREGORIAN
BEGIN:VEVENT
UID:21883@stadtgeschichte-muenchen.de
SUMMARY:Nationalsozialistische Täter*innen in München
DESCRIPTION:&lt;p&gt;Als Gründungsort der NSDAP nahm München für den Aufstieg des Nationalsozialismus eine zentrale Rolle ein. Auch die paramilitärischen Verbände SA und SS hatten ihre Wurzeln in München. Viele Unterstützer*innen Hitlers, frühe Parteimitglieder und Angehörige der nationalsozialistischen Terrororganisationen stiegen später zu einflussreichen Akteur*innen innerhalb des NS-Regimes auf.&lt;/p&gt; &lt;p&gt;In diesem Rundgang stellen wir die Biografien einzelner Münchner Täter*innen vor und blicken zudem auf die breite Öffentlichkeit: Denn neben der Führungselite des NS-Staates trugen gerade die zahlreichen Mitläufer*innen, Zuschauer*innen und Mittäter*innen zur Durchsetzung der nationalsozialistischen Ausgrenzungsgesellschaft bei. Der Blick auf Gegner*innen und Opfer des NS-Regimes zeigt, welche verbrecherischen Konsequenzen daraus resultierten.&lt;/p&gt; 
DTSTART:20221201T173000
DTEND:20221201T183000
LOCATION:NS-Dokumentationszentrum München
ORGANIZER:NS-Dokumentationszentrum München
END:VEVENT
END:VCALENDAR