BEGIN:VCALENDAR
VERSION:2.0
PRODID:-//Stadtgeschichte München//DE
CALSCALE:GREGORIAN
BEGIN:VEVENT
UID:21887@stadtgeschichte-muenchen.de
SUMMARY:Archiv der Münchner Arbeiterbewegung
DESCRIPTION:&lt;p&gt;Das Archiv der Münchner Arbeiterbewegung e.V. wurde 1987 gegründet. Seither übernimmt das Archiv die Aufgabe der Sicherung, Archivierung und Präsentation der über 150-jährigen Sozialgeschichte der arbeitenden Menschen und ihrer Organisationen. In Briefen, Dokumenten, Lebenserinnerungen, Fotografien und Alltagsobjekten wird die Geschichte der „einfachen Leute“ in München dokumentiert. Damit leistet das Arbeiterarchiv einen wesentlichen Beitrag zur Stadt- und Regionalgeschichte.&lt;/p&gt; &lt;p&gt;Teilnehmerzahl ist begrenzt. Anmeldung erforderlich&lt;/p&gt; 
DTSTART:20230411T180000
DTEND:20230411T190000
LOCATION:Haderunstraße 4 81375 München
ORGANIZER:ErinnerungsWerkstatt München e.V.
END:VEVENT
END:VCALENDAR