BEGIN:VCALENDAR
VERSION:2.0
PRODID:-//Stadtgeschichte München//DE
CALSCALE:GREGORIAN
BEGIN:VEVENT
UID:21888@stadtgeschichte-muenchen.de
SUMMARY:Geschichte der Lesben und Schwulen in München
DESCRIPTION:&lt;p&gt;Der Stadtspaziergang führt durch die manchmal bunten, manchmal düsteren Epochen des homosexuellen Münchner Stadtlebens. Er macht zwischen Altstadt und Isarvorstadt schwullesbisches Leben damals und heute greifbar.&lt;/p&gt; &lt;p&gt;Teilnehmerzahl ist begrenzt. Anmeldung erforderlich&lt;/p&gt; &lt;p&gt;&amp;nbsp;&lt;/p&gt; &lt;p&gt;Ergänzend weisen wir auf den ThemengeschichtsPfad “Geschichte der Lesben und Schwulen in München”, der in der Reihe KulturGeschichtsPfade der Stadt München hin. Die Publikation können Sie &lt;a href=&quot;https://stadt.muenchen.de/service/info/die-geschichte-der-lesben-und-schwulen-in-muenchen/10314418/&quot;&gt;hier&lt;/a&gt; finden.&lt;/p&gt; 
DTSTART:20230611T140000
DTEND:20230611T153000
LOCATION:Karl-Heinrich-Ulrichs-Platz, Am Glockenbach
ORGANIZER:ErinnerungsWerkstatt München e.V.
END:VEVENT
END:VCALENDAR