BEGIN:VCALENDAR
VERSION:2.0
PRODID:-//Stadtgeschichte München//DE
CALSCALE:GREGORIAN
BEGIN:VEVENT
UID:2192@stadtgeschichte-muenchen.de
SUMMARY:Schloss Nymphenburg im Nationalsozialismus
DESCRIPTION:&lt;p&gt;Was war damals los im Schloss? Und was blieb noch &amp;uuml;brig aus jener Zeit? Die Machtanspr&amp;uuml;che des NS-Regimes lie&amp;szlig;en Schloss Nymphenburg keineswegs in einen Dornr&amp;ouml;schenschlaf sinken: rege Baut&amp;auml;tigkeit und rauschende Feste, aber auch Zwangsr&amp;auml;umungen und Bombardierung sind Themen unseres Rundgangs. Die F&amp;uuml;hrung findet in den Au&amp;szlig;enanlagen des Schlosses statt.&lt;/p&gt;
DTSTART:20120708T140000
DTEND:20120708T153000
LOCATION:Freitreppe vor dem Schloss
ORGANIZER:MVHS München West
END:VEVENT
END:VCALENDAR