BEGIN:VCALENDAR
VERSION:2.0
PRODID:-//Stadtgeschichte München//DE
CALSCALE:GREGORIAN
BEGIN:VEVENT
UID:2195@stadtgeschichte-muenchen.de
SUMMARY:Stadtteilspaziergang: „Dorf Obermenzing
DESCRIPTION:&lt;div&gt;Vor mehr als 70 Jahren verlor das ehemalige Bauerndorf Obermenzing seine kommunale Selbstst&amp;auml;ndigkeit und wurde nach M&amp;uuml;nchen eingemeindet. In einem einf&amp;uuml;hrenden Vortrag werden die geschichtlichen Hintergr&amp;uuml;nde der Entwicklung Obermenzings von der Bajuwarensiedlung bis hin zur heutigen Gartenstadt erl&amp;auml;utert. Der anschlie&amp;szlig;ende Stadtteilspaziergang zeigt auf, wie sich das Dorf an der Wurm bis in die heutige Zeit trotz Zugeh&amp;ouml;rigkeit zur Millionenstadt M&amp;uuml;nchen eine gewisse Eigenst&amp;auml;ndigkeit und zum Teil eine d&amp;ouml;rfliche Idylle bewahrt hat. In Zusammenarbeit mit dem &amp;bdquo;Dorfschreiber Obermenzing&amp;quot;&lt;/div&gt;
DTSTART:20120707T140000
DTEND:20120707T160000
LOCATION:Carlhäusl, An der Wurm 1/Ecke Rathochstr. 
ORGANIZER:MVHS München West
END:VEVENT
END:VCALENDAR