BEGIN:VCALENDAR
VERSION:2.0
PRODID:-//Stadtgeschichte München//DE
CALSCALE:GREGORIAN
BEGIN:VEVENT
UID:2198@stadtgeschichte-muenchen.de
SUMMARY:Pasinger Villenkolonien - Kolonie l
DESCRIPTION:&lt;div&gt;Die am Ende des 19. Jahrhunderts n&amp;ouml;rdlich der Bahnlinie entstandene Kolonie l gilt als eines der sch&amp;ouml;nsten Wohngebiete M&amp;uuml;nchens. Sie hat sich ihren charmanten, gartenstadt&amp;auml;hnlichen Charakter bis heute bewahrt. Dieses Projekt des Architekten August Exter wurde zu einem Erfolgsmodell und zum Vorbild f&amp;uuml;r weitere &amp;bdquo;Kolonien&amp;quot; in Pasing. Wir sehen alle markanten Bauten und Pl&amp;auml;tze zwischen Wensauer Platz und Nymphenburger Kanal. Dabei veranschaulicht historisches Material (u.a. Fotos, Baupl&amp;auml;ne) bei ausgew&amp;auml;hlten H&amp;auml;usern deren Ver&amp;auml;nderung. Auch die aktuellen st&amp;auml;dtebaulichen Auswirkungen auf das Viertel, wie z. B. die im Bau befindliche Nordumgehung und die Neubebauung des ehemaligen Weylgel&amp;auml;ndes werden angesprochen.&lt;/div&gt;
DTSTART:20120721T140000
DTEND:20120721T170000
LOCATION:S-Bahnhof Pasing, Ausgang Nord
ORGANIZER:MVHS München West
END:VEVENT
END:VCALENDAR