BEGIN:VCALENDAR
VERSION:2.0
PRODID:-//Stadtgeschichte München//DE
CALSCALE:GREGORIAN
BEGIN:VEVENT
UID:220@stadtgeschichte-muenchen.de
SUMMARY:Es grünt so grün
DESCRIPTION:
DTSTART:20110509T100000
DTEND:20110509T000000
LOCATION:jeweils Hofgarten am Odeonsplatz, unter dem Bogen
ORGANIZER:Münchner Bildungswerk e.V.
END:VEVENT
END:VCALENDAR